Workbook

Sheet Sheet1
A1: Investment
A2: Company | B2: Number of shares | C2: Total Investment | D2: Total Return | E2: Percentage Return | F2: Closing Value of Investment
A3: Bank of America | B3: 100 | C3: =B3*B13 -> 3048 | D3: =(D18-B13)*B3 -> 65.9999 | E3: =D3/C3 -> 0.02165351 | F3: =C3+D3 -> 3113.9999
A4: JP Morgan Chase | B4: 100 | C4: =B4*F13 -> 11389 | D4: =(H18-F13)*B4 -> 126.0002 | E4: =D4/C4 -> 0.011063324 | F4: =C4+D4 -> 11515
A5: Apple, Inc. | B5: 100 | C5: =B5*J13 -> 20887 | D5: =(L18-J13)*B5 -> 1949.0001 | E5: =D5/C5 -> 0.093311634 | F5: =C5+D5 -> 22836
A6: Total | C6: =SUM(C3:C5) -> 35324 | D6: =SUM(D3:D5) -> 2141.0002 | E6: =D6/C6 -> 0.060610356 | F6: =C6+D6 -> 37465
A10: Bank of America | E10: JP Morgan Chase | I10: Apple, Inc.
A11: Week 8 | C11: Week 10 | E11: Week 8 | G11: Week 10 | I11: Week 8 | K11: Week 10
A12: Date | B12: Closing Price | C12: Date | D12: Closing Price | E12: Date | F12: Closing Price | G12: Date | H12: Closing Price | I12: Date | J12: Closing Price | K12: Date | L12: Closing Price
A13: =BAC!A2 -> 43325 | B13: =BAC!E2 -> 30.48 | C13: =BAC!A12 -> 43339 | D13: =BAC!E12 -> 31.309999 | E13: =JPM!A2 -> 43325 | F13: =JPM!E2 -> 113.89 | G13: =JPM!A12 -> 43339 | H13: =JPM!E12 -> 116.71 | I13: =AAPL!A2 -> 43325 | J13: =AAPL!E2 -> 208.87 | K13: =AAPL!A12 -> 43339 | L13: =AAPL!F12 -> 217.94
A14: =BAC!A3 -> 43326 | B14: =BAC!E3 -> 30.790001 | C14: =BAC!A13 -> 43340 | D14: =BAC!E13 -> 31.27 | E14: =JPM!A3 -> 43326 | F14: =JPM!E3 -> 114.65 | G14: =JPM!A13 -> 43340 | H14: =JPM!E13 -> 116.14 | I14: =AAPL!A3 -> 43326 | J14: =AAPL!E3 -> 209.75 | K14: =AAPL!A13 -> 43340 | L14: =AAPL!F13 -> 219.7
A15: =BAC!A4 -> 43327 | B15: =BAC!E4 -> 30.360001 | C15: =BAC!A14 -> 43341 | D15: =BAC!E14 -> 31.139999 | E15: =JPM!A4 -> 43327 | F15: =JPM!E4 -> 113.7 | G15: =JPM!A14 -> 43341 | H15: =JPM!E14 -> 115.76 | I15: =AAPL!A4 -> 43327 | J15: =AAPL!E4 -> 210.24 | K15: =AAPL!A14 -> 43341 | L15: =AAPL!F14 -> 222.98
A16: =BAC!A5 -> 43328 | B16: =BAC!E5 -> 30.719999 | C16: =BAC!A15 -> 43342 | D16: =BAC!E15 -> 31.01 | E16: =JPM!A5 -> 43328 | F16: =JPM!E5 -> 114.77 | G16: =JPM!A15 -> 43342 | H16: =JPM!E15 -> 115.19 | I16: =AAPL!A5 -> 43328 | J16: =AAPL!E5 -> 213.32001 | K16: =AAPL!A15 -> 43342 | L16: =AAPL!F15 -> 225.03
A17: =BAC!A6 -> 43329 | B17: =BAC!E6 -> 30.74 | C17: =BAC!A16 -> 43343 | D17: =BAC!E16 -> 30.93 | E17: =JPM!A6 -> 43329 | F17: =JPM!E6 -> 114.77 | G17: =JPM!A16 -> 43343 | H17: =JPM!E16 -> 114.58 | I17: =AAPL!A6 -> 43329 | J17: =AAPL!E6 -> 217.58 | K17: =AAPL!A16 -> 43343 | L17: =AAPL!F16 -> 227.63001
A18: =BAC!A7 -> 43332 | B18: =BAC!E7 -> 30.870001 | C18: =BAC!A17 -> 43347 | D18: =BAC!E17 -> 31.139999 | E18: =JPM!A7 -> 43332 | F18: =JPM!E7 -> 114.62 | G18: =JPM!A17 -> 43347 | H18: =JPM!E17 -> 115.15 | I18: =AAPL!A7 -> 43332 | J18: =AAPL!E7 -> 215.46001 | K18: =AAPL!A17 -> 43347 | L18: =AAPL!F17 -> 228.36

Sheet AAPL
A1: Date | B1: Open | C1: High | D1: Low | E1: Close | F1: Adj Close | G1: Volume
A2: 43325 | B2: 209.31 | C2: 210.95 | D2: 207.7 | E2: 208.87 | F2: 208.87 | G2: 25890900
A3: 43326 | B3: 210.16 | C3: 210.56 | D3: 208.26 | E3: 209.75 | F3: 209.75 | G3: 20748000
A4: 43327 | B4: 209.22 | C4: 210.74 | D4: 208.33 | E4: 210.24 | F4: 210.24 | G4: 28807600
A5: 43328 | B5: 211.75 | C5: 213.81 | D5: 211.47 | E5: 213.32001 | F5: 213.32001 | G5: 28500400
A6: 43329 | B6: 213.44 | C6: 217.95 | D6: 213.16 | E6: 217.58 | F6: 217.58 | G6: 35427000
A7: 43332 | B7: 218.10001 | C7: 219.17999 | D7: 215.11 | E7: 215.46001 | F7: 215.46001 | G7: 30287700
A8: 43333 | B8: 216.8 | C8: 217.19 | D8: 214.03 | E8: 215.03999 | F8: 215.03999 | G8: 26159800
A9: 43334 | B9: 214.10001 | C9: 216.36 | D9: 213.84 | E9: 215.05 | F9: 215.05 | G9: 19018100
A10: 43335 | B10: 214.64999 | C10: 217.05 | D10: 214.60001 | E10: 215.49 | F10: 215.49 | G10: 18883200
A11: 43336 | B11: 216.60001 | C11: 216.89999 | D11: 215.11 | E11: 216.16 | F11: 216.16 | G11: 18476400
A12: 43339 | B12: 217.14999 | C12: 218.74 | D12: 216.33 | E12: 217.94 | F12: 217.94 | G12: 20525100
A13: 43340 | B13: 219.01 | C13: 220.53999 | D13: 218.92 | E13: 219.7 | F13: 219.7 | G13: 22776800
... A24: 43356 | B24: 223.52 | C24: 228.35001 | D24: 222.57001 | E24: 226.41 | F24: 226.41 | G24: 41433400

Sheet BAC
A1: Date | B1: Open | C1: High | D1: Low | E1: Close | F1: Adj Close | G1: Volume
A2: 43325 | B2: 31.08 | C2: 31.12 | D2: 30.45 | E2: 30.48 | F2: 30.33 | G2: 63901000
A3: 43326 | B3: 30.610001 | C3: 30.9 | D3: 30.42 | E3: 30.790001 | F3: 30.641878 | G3: 42521200
A4: 43327 | B4: 30.48 | C4: 30.620001 | D4: 30.16 | E4: 30.360001 | F4: 30.213945 | G4: 59747900
A5: 43328 | B5: 30.559999 | C5: 30.84 | D5: 30.52 | E5: 30.719999 | F5: 30.572212 | G5: 44015400
A6: 43329 | B6: 30.66 | C6: 30.860001 | D6: 30.549999 | E6: 30.74 | F6: 30.592117 | G6: 39843500
A7: 43332 | B7: 30.690001 | C7: 30.93 | D7: 30.65 | E7: 30.870001 | F7: 30.721493 | G7: 40011000
A8: 43333 | B8: 30.91 | C8: 31.25 | D8: 30.83 | E8: 31.02 | F8: 30.870771 | G8: 53510600
A9: 43334 | B9: 30.92 | C9: 31.09 | D9: 30.879999 | E9: 30.98 | F9: 30.830963 | G9: 33062900
A10: 43335 | B10: 30.940001 | C10: 30.98 | D10: 30.74 | E10: 30.84 | F10: 30.691637 | G10: 38259100
A11: 43336 | B11: 30.940001 | C11: 31.08 | D11: 30.85 | E11: 30.889999 | F11: 30.741396 | G11: 43585000
A12: 43339 | B12: 31.030001 | C12: 31.49 | D12: 30.99 | E12: 31.309999 | F12: 31.159374 | G12: 47729300
A13: 43340 | B13: 31.360001 | C13: 31.41 | D13: 31.190001 | E13: 31.27 | F13: 31.119568 | G13: 38539000
... A24: 43356 | B24: 30.530001 | C24: 30.67 | D24: 30.08 | E24: 30.139999 | F24: 30.139999 | G24: 59038000

Sheet JPM
A1: Date | B1: Open | C1: High | D1: Low | E1: Close | F1: Adj Close | G1: Volume
A2: 43325 | B2: 115.56 | C2: 115.88 | D2: 113.82 | E2: 113.89 | F2: 113.89 | G2: 10336300
A3: 43326 | B3: 114.27 | C3: 115.04 | D3: 113.65 | E3: 114.65 | F3: 114.65 | G3: 10597600
A4: 43327 | B4: 113.82 | C4: 114.33 | D4: 112.97 | E4: 113.7 | F4: 113.7 | G4: 10152100
A5: 43328 | B5: 114.35 | C5: 115.31 | D5: 114.3 | E5: 114.77 | F5: 114.77 | G5: 10118600
A6: 43329 | B6: 114.64 | C6: 115.07 | D6: 114.3 | E6: 114.77 | F6: 114.77 | G6: 8505100
A7: 43332 | B7: 114.59 | C7: 115.05 | D7: 114.11 | E7: 114.62 | F7: 114.62 | G7: 8618700
A8: 43333 | B8: 115.37 | C8: 116.39 | D8: 114.88 | E8: 115.32 | F8: 115.32 | G8: 10976700
A9: 43334 | B9: 115.31 | C9: 115.41 | D9: 114.78 | E9: 114.97 | F9: 114.97 | G9: 8314700
A10: 43335 | B10: 114.96 | C10: 115.15 | D10: 114.43 | E10: 114.73 | F10: 114.73 | G10: 9265400
A11: 43336 | B11: 114.98 | C11: 115.22 | D11: 114.45 | E11: 114.68 | F11: 114.68 | G11: 8845700
A12: 43339 | B12: 115.22 | C12: 117.28 | D12: 115.17 | E12: 116.71 | F12: 116.71 | G12: 13768000
A13: 43340 | B13: 117 | C13: 117.03 | D13: 115.97 | E13: 116.14 | F13: 116.14 | G13: 8302600
... A24: 43356 | B24: 113.37 | C24: 114.13 | D24: 112.67 | E24: 113.52 | F24: 113.52 | G24: 12415200
